BEGIN:VCALENDAR
VERSION:2.0
PRODID:-//Teleios Health International - ECPv6.15.20//NONSGML v1.0//EN
CALSCALE:GREGORIAN
METHOD:PUBLISH
X-WR-CALNAME:Teleios Health International
X-ORIGINAL-URL:https://teleioshealthinternational.org
X-WR-CALDESC:Events for Teleios Health International
REFRESH-INTERVAL;VALUE=DURATION:PT1H
X-Robots-Tag:noindex
X-PUBLISHED-TTL:PT1H
BEGIN:VTIMEZONE
TZID:UTC
BEGIN:STANDARD
TZOFFSETFROM:+0000
TZOFFSETTO:+0000
TZNAME:UTC
DTSTART:20240101T000000
END:STANDARD
END:VTIMEZONE
BEGIN:VEVENT
DTSTART;TZID=UTC:20250814T080000
DTEND;TZID=UTC:20250815T170000
DTSTAMP:20260422T021726
CREATED:20260214T210201Z
LAST-MODIFIED:20260214T210201Z
UID:46134-1755158400-1755277200@teleioshealthinternational.org
SUMMARY:Volunteers & Supporters Drive (August 2025)
DESCRIPTION:Volunteers & Supporters Drive (August 2025)
URL:https://teleioshealthinternational.org/event/volunteers-supporters-drive-august-2025/
LOCATION:The Event Center\, Rivers St\, Calgary Alberta\, Rivers\, T2P\, Canada
CATEGORIES:August
ATTACH;FMTTYPE=image/jpeg:https://teleioshealthinternational.org/wp-content/uploads/2026/02/PXL_20250823_182318176.jpg
END:VEVENT
END:VCALENDAR