BEGIN:VCALENDAR
VERSION:2.0
PRODID:-//Teleios Health International - ECPv6.15.20//NONSGML v1.0//EN
CALSCALE:GREGORIAN
METHOD:PUBLISH
X-WR-CALNAME:Teleios Health International
X-ORIGINAL-URL:https://teleioshealthinternational.org
X-WR-CALDESC:Events for Teleios Health International
REFRESH-INTERVAL;VALUE=DURATION:PT1H
X-Robots-Tag:noindex
X-PUBLISHED-TTL:PT1H
BEGIN:VTIMEZONE
TZID:UTC
BEGIN:STANDARD
TZOFFSETFROM:+0000
TZOFFSETTO:+0000
TZNAME:UTC
DTSTART:20240101T000000
END:STANDARD
END:VTIMEZONE
BEGIN:VEVENT
DTSTART;TZID=UTC:20251220T080000
DTEND;TZID=UTC:20251222T170000
DTSTAMP:20260421T231751
CREATED:20260214T211929Z
LAST-MODIFIED:20260214T212129Z
UID:46147-1766217600-1766422800@teleioshealthinternational.org
SUMMARY:Volunteers & Supporters Drive (Dec. 2025)
DESCRIPTION:Volunteers & Supporters Drive (Dec. 2025)
URL:https://teleioshealthinternational.org/event/volunteers-supporters-drive-dec-2025/
CATEGORIES:December
ATTACH;FMTTYPE=image/jpeg:https://teleioshealthinternational.org/wp-content/uploads/2026/02/DSC_8181.jpg
END:VEVENT
END:VCALENDAR